BEGIN:VCALENDAR
VERSION:2.0
PRODID:icalendar-ruby
CALSCALE:GREGORIAN
METHOD:PUBLISH
BEGIN:VEVENT
DTSTAMP:20260423T151536Z
UID:394-284720@alccorting.com
DTSTART:20260517T010000Z
DTEND:20260517T033000Z
CLASS:PUBLIC
CREATED:20260422T113352
DESCRIPTION:Revive Worship leaders will be leading us in a night of worship
  and prayer. Youth are invited to join us. There will be snacks!
LAST-MODIFIED:20260422T113352
LOCATION:1005 Orting Kapowsin Hwy E\, Orting\, WA 98360
SUMMARY:Revive Young Adults Worship Night
URL;VALUE=URI:https://alccorting.com/events/revive-young-adults-worship-nig
 ht/2026-05-16
ATTACH;FILENAME=Revive-Worship-Night.jpg;FMTTYPE=image/jpeg:https://dq5pwpg
 1q8ru0.cloudfront.net/2026/04/22/18/33/52/47a4f4ed-631f-4f1a-a6a2-e0625aeb
 dce6/Revive-Worship-Night.jpg
END:VEVENT
END:VCALENDAR
