BEGIN:VCALENDAR
VERSION:2.0
PRODID:icalendar-ruby
CALSCALE:GREGORIAN
METHOD:PUBLISH
BEGIN:VEVENT
DTSTAMP:20260423T155819Z
UID:392-275916@alccorting.com
DTSTART:20260707T210000Z
DTEND:20260714T220000Z
CLASS:PUBLIC
CREATED:20260408T133715
DESCRIPTION:6th Grade - 12th Grade (Impact and Remnant)\n\nJoin Samuel and 
 Jewel Carver and their leadership team as they take a team of youth for a 
 powerful week in Ensenada\, Mexico for MISSION ADVENTURES.\n\nThe Mission 
 Adventures experience is life changing. Not only will you see God change t
 he lives of those you minister to\, but you'll see Him transform your own 
 life too. You will be equipped with tools for outreach\, given opportuniti
 es to love on people\, to hear from God and to step out in faith. You will
  deepen your relationship with God and others\, have fun\, make memories a
 nd will leave wanting to come back again!\n\n**Each applicant must fill ou
 t their own applications. Parents you can help but please have your youth 
 answer the questions.\n\nSuggested Payment Plan (we understand you may ch
 oose to fundraise)\n$100 Deposit due at time of Registration (Closes May 3
 rd)\nAdditional $300 due by May 31st\nAdditional $300 due by June 29th\nAd
 ditional $300 due by July 19th\nFINAL Payment of $300 due by August 1st\n\
 n$50 OFF if you Register before February 15th!\n\n*We will be fundraising 
 as a team at the Fireworks stand and selling pizza cards. Each team member
  will learn and be required to send out support letters and we will help t
 o advertise "Missionary for Hire" if you desire to be hired to do some wor
 k to raise funds (examples: babysitting\, dog walking\, yard work\, etc.).
 \n\nMandatory Team Meetings (please place on your calendar)\nSunday\, May
  18th\, 12pm - 2pm\nSaturday\, May 30th\, Boots and Blessings Auction FUND
 RAISER\nSunday\, June 22nd\, 12pm - 2pm\nThursday\, June 26th - Saturday\,
  July 5th FIREWORKS STAND FUNDRAISER\nSunday\, July 20th\, 12pm - 2pm\nSun
 day\, August 3rd\, TEAM Prayed for at Service\nAugust 8th\, leave for Mexi
 co\n\nAll meetings held at ALCC HomeBase unless otherwise noted\n1005 Orti
 ng Kapowsin Hwy E\n\nFor more information please contact:\nKarie Franks\,
  karie@alccorting.com\, 253-722-6148
LAST-MODIFIED:20260408T133715
LOCATION:YWAM Ensenada 218 Veracruz Ensenada\, B.C. 22890
SUMMARY:Youth Mission Adventures Trip
URL;VALUE=URI:https://alccorting.com/events/youth-mission-adventures-trip/2
 026-07-07
ATTACH;FILENAME=Youth--Young-Adults-Trip.jpg;FMTTYPE=image/jpeg:https://dq5
 pwpg1q8ru0.cloudfront.net/2026/04/08/20/37/14/595fee20-0061-4640-ae0a-4938
 9c5cd509/Youth--Young-Adults-Trip.jpg
END:VEVENT
END:VCALENDAR
